BEGIN:VCALENDAR
VERSION:2.0
PRODID:-//AMIGOS DE LA TIERRA LA RIOJA - ECPv6.15.20//NONSGML v1.0//EN
CALSCALE:GREGORIAN
METHOD:PUBLISH
X-WR-CALNAME:AMIGOS DE LA TIERRA LA RIOJA
X-ORIGINAL-URL:https://tierralarioja.org
X-WR-CALDESC:Eventos para AMIGOS DE LA TIERRA LA RIOJA
REFRESH-INTERVAL;VALUE=DURATION:PT1H
X-Robots-Tag:noindex
X-PUBLISHED-TTL:PT1H
BEGIN:VTIMEZONE
TZID:UTC
BEGIN:STANDARD
TZOFFSETFROM:+0000
TZOFFSETTO:+0000
TZNAME:UTC
DTSTART:20250101T000000
END:STANDARD
END:VTIMEZONE
BEGIN:VEVENT
DTSTART;TZID=UTC:20260419T090000
DTEND;TZID=UTC:20260419T143000
DTSTAMP:20260421T171731
CREATED:20260413T142055Z
LAST-MODIFIED:20260413T161050Z
UID:12673-1776589200-1776609000@tierralarioja.org
SUMMARY:Salida Ornitológica: Sajazarra
DESCRIPTION:El próximo domingo 19 de abril volvemos a salir a observar aves\, ¡y ya vamos por la tercera! Esta vez nuestro destino será el precioso entorno de Sajazarra\, un lugar ideal para disfrutar de la biodiversidad primaveral. \n🚗 Puntos de encuentro: \n\nLogroño: 9:00 h en el parking de MediaMarkt\nSajazarra: 9:45 h en el parking de la entrada del pueblo\n\n🥾 Ruta: \n\nDistancia aproximada: 10 km\nRecorrido: circular\nItinerario entre Sajazarra y Fonzaleche\, recorriendo parajes como El Prao\, Cañueca\, Las Llanas y el Camino de las Huertas.\n\n🌾🌳 Un recorrido único que combina la frescura de los bosques de ribera con la amplitud de las estepas cerealistas. \n🐦 Durante la jornada podremos observar especies emblemáticas como aguiluchos cenizos\, oropéndolas\, alcaudones\, torcecuellos y muchas otras aves\, haciendo de esta salida una experiencia inolvidable para amantes de la naturaleza y la ornitología. \n💚 Precio: \n\nPersonas socias: gratis\nNo socias: 5 € PAGAR AQUÍ\n\n👣 La actividad estará guiada por Oier Riaño Martínez de Osaba. \n🎒 Recomendamos traer prismáticos\, agua\, almuerzo y ropa cómoda. \n✨ Actividad abierta a todos los niveles. ¡Anímate a descubrir la riqueza natural de La Rioja con nosotras/os!
URL:https://tierralarioja.org/event/salida-ornitologica-sajazarra/
CATEGORIES:EXCURSIONES
ATTACH;FMTTYPE=image/png:https://tierralarioja.org/wp-content/uploads/2026/04/Black-White-Brown-Photo-Collage-Book-Quote-Reading-Instagram-Post-1.png
END:VEVENT
END:VCALENDAR