BEGIN:VCALENDAR
VERSION:2.0
PRODID:-//AMIGOS DE LA TIERRA LA RIOJA - ECPv6.15.20//NONSGML v1.0//EN
CALSCALE:GREGORIAN
METHOD:PUBLISH
X-ORIGINAL-URL:https://tierralarioja.org
X-WR-CALDESC:Eventos para AMIGOS DE LA TIERRA LA RIOJA
REFRESH-INTERVAL;VALUE=DURATION:PT1H
X-Robots-Tag:noindex
X-PUBLISHED-TTL:PT1H
BEGIN:VTIMEZONE
TZID:UTC
BEGIN:STANDARD
TZOFFSETFROM:+0000
TZOFFSETTO:+0000
TZNAME:UTC
DTSTART:20250101T000000
END:STANDARD
END:VTIMEZONE
BEGIN:VEVENT
DTSTART;TZID=UTC:20260314T100000
DTEND;TZID=UTC:20260314T140000
DTSTAMP:20260421T151910
CREATED:20260309T083202Z
LAST-MODIFIED:20260309T083202Z
UID:12439-1773482400-1773496800@tierralarioja.org
SUMMARY:Plantación en Villamediana
DESCRIPTION:La asociación Amigos de la Tierra La Rioja organiza una jornada de plantación de árboles abierta a todo el público. \n📅 Sábado 14 de marzo\n🕙 10:00 a. m.\n📍 Punto de encuentro: Parking del polideportivo de Villamediana (C/ Portillo)\n🛠️ Trae tu pala o azada\n🌿 ¡Ganas de ensuciarte las manos y sembrar vida! \nEs una actividad ideal para venir en familia\, con amistades o de forma individual. Cada árbol que plantamos es un pequeño paso hacia un entorno más saludable y sostenible 🌍 \nMás información: info@tierralarioja.org\n¡Súmate y ayúdanos a reverdecer Villamediana!
URL:https://tierralarioja.org/event/plantacion-en-villamediana/
CATEGORIES:PLANTACIÓN
ATTACH;FMTTYPE=image/jpeg:https://tierralarioja.org/wp-content/uploads/2026/03/PLANTACION-VILLAMEDIANA.jpg
END:VEVENT
BEGIN:VEVENT
DTSTART;TZID=UTC:20260329T080000
DTEND;TZID=UTC:20260329T140000
DTSTAMP:20260421T151910
CREATED:20260323T102520Z
LAST-MODIFIED:20260323T112544Z
UID:12512-1774771200-1774792800@tierralarioja.org
SUMMARY:Salida ornitológica: Cañón del río Leza
DESCRIPTION:Este 29 de marzo realizaremos nuestra segunda salida ornitológica\, y esta vez nos vamos al impresionante Cañón del río Leza 🏞️\, una ruta perfecta para aprender y disfrutar de las aves rapaces en su hábitat natural. \n📍 Punto de encuentro: Parking de MediaMarkt\n🕘 Hora: 8:30 h \n🎒 ¿Qué llevar? \nRopa de montaña\nPrismáticos\nAlmuerzo\nGuía de aves (si tienes) \n💚 Actividad gratuita para socios\n💶 No socios: 5€ PAGAR AQUÍ \nUna oportunidad ideal para conectar con la naturaleza\, aprender y compartir en grupo 🌱✨ \n¡Te esperamos! 🐦 \nhttps://tierralarioja.org/wp-content/uploads/2026/03/Salida-ornitologica.mp4
URL:https://tierralarioja.org/event/salida-ornitologica-canon-del-rio-leza/
CATEGORIES:EXCURSIONES
ATTACH;FMTTYPE=image/jpeg:https://tierralarioja.org/wp-content/uploads/2026/03/Canon-leza.jpg
END:VEVENT
END:VCALENDAR